Workbook
Name _IDОтчета: 178174
Name _IDШаблона: 178176
Name _Параметр_1: "'02.2009'"
Name _Параметр_2: "'105'"
Name _Параметр_3: "'1.27'"
Name _Параметр_4: "'01.09.2008'"
Name _Параметр_5: "'22.09.2008'"
Name _Параметр_6: "'80169210'"
Name CHAR_V_0_4: [1]TEHSHEET!$AS$37:$AS$39
Name inn: [1]Титульный!$F$23
Name kpp: [1]Титульный!$F$24
Name logic: [1]TEHSHEET!$P$3:$P$4
Name month_list: [1]TEHSHEET!$F$1:$F$12
Name opfil_list: [1]TEHSHEET!$S$2:$S$41
Name org: [1]Титульный!$F$21
Name PROT_22: P3_PROT_22,P4_PROT_22,P5_PROT_22
Name region_name: [1]Титульный!$F$9
Name spr_ssotv_napr_air: [1]TEHSHEET!$BF$8:$BG$23
Name spr_ssotv_napr_kabel: [1]TEHSHEET!$BK$8:$BL$23
Name TOTAL: P1_TOTAL,P2_TOTAL,P3_TOTAL,P4_TOTAL,P5_TOTAL
Name UE_NAME_ALL_PARAM: [1]TEHSHEET!$AV$7:$AV$40
Name UE_VALUE_1KM: [1]TEHSHEET!$AW$7:$AW$40
Name WS_01_DIC_base_operating: [1]TEHSHEET!$Z$3:$Z$10
Name WS_05_CHEK_SYSTEM_ERRORS_RANGE: #REF!
Name year: [1]Титульный!$F$12

Sheet Общее
E1: Приложение N 7_x000D_ к Единым стандартам_x000D_ качества обслуживания сетевыми_x000D_ организациями потребителей_x000D_ услуг сетевых организаций_x000D_
A4: Информация о качестве обслуживания потребителей
A5: ПАО "Омскшина" за 2017 г.

Sheet 1.1.
A1: 1.1. Характеристика потребителей услуг сетевой организации
A3: N | B3: Показатель | C3: 2016 г. | I3: 2017 г. | O3: Динамика изменения показателя, %
C4: категория надежности | I4: категория надежности
C5: I | E5: II | G5: III | I5: I | K5: II | M5: III | O5: I | Q5: II | S5: III
C6: ЮЛ | D6: ФЛ | E6: ЮЛ | F6: ФЛ | G6: ЮЛ | H6: ФЛ | I6: ЮЛ | J6: ФЛ | K6: ЮЛ | L6: ФЛ | M6: ЮЛ | N6: ФЛ | O6: ЮЛ | P6: ФЛ | Q6: ЮЛ | R6: ФЛ | S6: ЮЛ | T6: ФЛ
A7: 1 | B7: 2 | C7: 3 | D7: 4 | E7: 5 | F7: 6 | G7: 7 | H7: 8 | I7: 9 | J7: 10 | K7: 11 | L7: 12 | M7: 13 | N7: 14 | O7: 15 | P7: 16 | Q7: 17 | R7: 18 | S7: 19 | T7: 20
A8: 1 | B8: Количество потребителей услуг сетевой организации по уровням напряжения | C8: =SUM(C9:C12) -> 0 | D8: =SUM(D9:D12) -> 0 | E8: =SUM(E9:E12) -> 5 | F8: =SUM(F9:F12) -> 0 | G8: =SUM(G9:G12) -> 15 | H8: =SUM(H9:H12) -> 4 | I8: =SUM(I9:I12) -> 0 | J8: =SUM(J9:J12) -> 0 | ... N8: =SUM(N9:N12) -> 4 | O8: =IF(C8>0,I8/C8-1,0) -> 0 | P8: =IF(D8>0,J8/D8-1,0) -> 0 | Q8: =IF(E8>0,K8/E8-1,0) -> 0 | R8: =IF(F8>0,L8/F8-1,0) -> 0 | S8: =IF(G8>0,M8/G8-1,0) -> 0.13333333 | T8: =IF(H8>0,N8/H8-1,0) -> 0
A9: 1.1 | B9: ВН (110 кВ и выше) | C9: 0 | D9: 0 | E9: 0 | F9: 0 | G9: 0 | H9: 0 | I9: 0 | J9: 0 | K9: 0 | L9: 0 | M9: 0 | N9: 0 | O9: =IF(C9>0,I9/C9-1,0) -> 0 | P9: =IF(D9>0,J9/D9-1,0) -> 0 | Q9: =IF(E9>0,K9/E9-1,0) -> 0 | R9: =IF(F9>0,L9/F9-1,0) -> 0 | S9: =IF(G9>0,M9/G9-1,0) -> 0 | T9: =IF(H9>0,N9/H9-1,0) -> 0
A10: 1.2 | B10: СН I (35 - 60 кВ) | C10: 0 | D10: 0 | E10: 0 | F10: 0 | G10: 0 | H10: 0 | I10: 0 | J10: 0 | K10: 0 | L10: 0 | M10: 0 | N10: 0 | O10: =IF(C10>0,I10/C10-1,0) -> 0 | P10: =IF(D10>0,J10/D10-1,0) -> 0 | Q10: =IF(E10>0,K10/E10-1,0) -> 0 | R10: =IF(F10>0,L10/F10-1,0) -> 0 | S10: =IF(G10>0,M10/G10-1,0) -> 0 | T10: =IF(H10>0,N10/H10-1,0) -> 0
A11: 1.3 | B11: СН II (1 - 20 кВ) | C11: 0 | D11: 0 | E11: 5 | F11: 0 | G11: 15 | H11: 3 | I11: 0 | J11: 0 | K11: 5 | L11: 0 | M11: 17 | N11: 3 | O11: =IF(C11>0,I11/C11-1,0) -> 0 | P11: =IF(D11>0,J11/D11-1,0) -> 0 | Q11: =IF(E11>0,K11/E11-1,0) -> 0 | R11: =IF(F11>0,L11/F11-1,0) -> 0 | S11: =IF(G11>0,M11/G11-1,0) -> 0.13333333 | T11: =IF(H11>0,N11/H11-1,0) -> 0
A12: 1.4 | B12: НН (до 1 кВ) | C12: 0 | D12: 0 | E12: 0 | F12: 0 | G12: 0 | H12: 1 | I12: 0 | J12: 0 | K12: 0 | L12: 0 | M12: 0 | N12: 1 | O12: =IF(C12>0,I12/C12-1,0) -> 0 | P12: =IF(D12>0,J12/D12-1,0) -> 0 | Q12: =IF(E12>0,K12/E12-1,0) -> 0 | R12: =IF(F12>0,L12/F12-1,0) -> 0 | S12: =IF(G12>0,M12/G12-1,0) -> 0 | T12: =IF(H12>0,N12/H12-1,0) -> 0

Sheet 1.2.
A1: 1.2. Количество точек поставки всего и точек поставки, оборудованных приборами учета электрической энергии
A3: N | B3: Показатель | C3: =+'1.1.'!C3:H3 -> 2016 г. | D3: =+'1.1.'!I3 -> 2017 г. | E3: Динамика изменения показателя, %
A4: 1 | B4: 2 | C4: 3 | D4: 4 | E4: 5
A5: 1 | B5: Количество точек поставки всего, в т.ч. | C5: 55 | D5: 56 | E5: =IF(C5>0,D5/C5-1,0) -> 0.018181818
A6: 1.1 | B6: оборудованных приборами учета электрической энергии | C6: 55 | D6: 56 | E6: =IF(C6>0,D6/C6-1,0) -> 0.018181818
A7: 1.2 | B7: оборудованных приборами учета с возможностью дистанционного сбора данных | C7: 14 | D7: 14 | E7: =IF(C7>0,D7/C7-1,0) -> 0

Sheet 1.3.
A1: 1.3. Информация об объектах электросетевого хозяйства сетевой организации
A3: № п/п | B3: Наименование ПС 35-110 кВ | C3: Уровни напряжения ПС 35-110 кВ | D3: Установленная мощность существующих трансформаторов (МВА) | H3: Динамика изменения показателя, %
D4: 1T | E4: 2T | F4: 1T | G4: 2T
D5: =+'1.2.'!C3 -> 2016 г. | F5: =+'1.2.'!D3 -> 2017 г. | H5: 1T | I5: 2T
A6: 1 | B6: 2 | C6: 3 | D6: 4 | E6: 5 | F6: 6 | G6: 7 | H6: 8 | I6: 9
A7: 1 | B7: "Черемуховская" | C7: 110/6 | D7: 10 | E7: 10 | F7: 10 | G7: 10 | H7: =IF(D7>0,F7/D7-1,0) -> 0 | I7: =IF(E7>0,G7/E7-1,0) -> 0
A8: 2 | B8: Шинная-1 | C8: 110/10 | D8: 31.5 | E8: 40 | F8: 31.5 | G8: 40 | H8: =IF(D8>0,F8/D8-1,0) -> 0 | I8: =IF(E8>0,G8/E8-1,0) -> 0
A9: 3 | B9: Шинная-2 | C9: 110/10/6 | D9: 80 | E9: 63 | F9: 80 | G9: 63 | H9: =IF(D9>0,F9/D9-1,0) -> 0 | I9: =IF(E9>0,G9/E9-1,0) -> 0
A11: Объём воздушных линий электропередач (ВЛЭП) и кабельных линий электропередач (КЛЭП) в зависимости от протяженности, напряжения, конструктивного использования и материала
A13: ЛЭП | B13: Напряжение, кВ | C13: Количество цепей на опоре | D13: Материал опор | E13: Протяжён-ность, км
A14: 1 | B14: 2 | C14: 3 | D14: 4 | E14: 5
A15: ВЛЭП | B15: 1150 | C15: - | D15: металл | E15: 0 | P15: UE_NAME_ALL_PARAM
B16: 750 | C16: 1 | D16: металл | E16: 0 | P16: воздушная1150Металлические опоры.
B17: 400-500 | C17: 1 | D17: металл | E17: 0 | P17: воздушная750Металлические опоры, 1 цепь
D18: ж/бетон | E18: 0 | P18: воздушная400-500Металлические опоры, 1 цепь
B19: 330 | C19: 1 | D19: металл | E19: 0 | P19: воздушная400-500Ж/бетон опоры,1 цепь
D20: ж/бетон | E20: 0 | P20: воздушная330Металлические опоры, 1 цепь
C21: 2 | D21: металл | E21: 0 | P21: воздушная330Ж/бетон опоры,1 цепь
D22: ж/бетон | E22: 0 | P22: воздушная330Металлические опоры, 2 цепи
B23: 220 | C23: 1 | D23: дерево | E23: 0 | P23: воздушная330Ж/бетон опоры,2 цепи
D24: металл | E24: 0 | P24: воздушная220Деревянные опоры,1 цепь
D25: ж/бетон | E25: 0 | P25: воздушная220Металлические опоры, 1 цепь
C26: 2 | D26: металл | E26: 0 | P26: воздушная220Ж/бетон опоры,1 цепь
D27: ж/бетон | E27: 0 | P27: воздушная220Металлические опоры, 2 цепи
B28: 110-150 | C28: 1 | D28: дерево | E28: 0 | P28: воздушная220Ж/бетон опоры,2 цепи
D29: металл | E29: 0 | P29: воздушная110-150Деревянные опоры,1 цепь
D30: ж/бетон | E30: 0 | P30: воздушная110-150Металлические опоры, 1 цепь
C31: 2 | D31: металл | E31: 0 | P31: воздушная110-150Ж/бетон опоры,1 цепь
D32: ж/бетон | E32: 0 | P32: воздушная110-150Металлические опоры, 2 цепи
A33: КЛЭП | B33: 220 | C33: - | D33: - | E33: 0 | P33: воздушная110-150Ж/бетон опоры,2 цепи
B34: 110 | C34: - | D34: - | E34: 0 | P34: кабельная220
A35: ВЛЭП | B35: 35 | C35: 1 | D35: дерево | E35: 0 | P35: кабельная110
D36: металл | E36: 0 | P36: воздушная35Деревянные опоры,1 цепь
D37: ж/бетон | E37: 0 | P37: воздушная35Металлические опоры, 1 цепь
C38: 2 | D38: металл | E38: 0 | P38: воздушная35Ж/бетон опоры,1 цепь
D39: ж/бетон | E39: 0 | P39: воздушная35Металлические опоры, 2 цепи
B40: 1 - 20 | C40: - | D40: дерево | E40: 0 | P40: воздушная35Ж/бетон опоры,2 цепи
D41: дерево на ж/б пасынках | E41: 0 | P41: воздушная1 - 20 Деревянные опоры.
D42: ж/бетон, металл | E42: 0 | P42: воздушная1 - 20 Деревянные опоры на ж\б пасынках.
A43: КЛЭП | B43: 20 -35 | C43: - | D43: - | E43: 0 | P43: воздушная1 - 20 Ж/бетон, металлические опоры.
...

Sheet 1.4.
A1: 1.4. Уровень физического износа объектов электросетевого хозяйства сетевой организации
A3: N | B3: Показатель | C3: =+'1.2.'!C3 -> 2016 г. | D3: =+'1.2.'!D3 -> 2017 г. | E3: Динамика изменения показателя, %
A4: 1 | B4: 2 | C4: 3 | D4: 4 | E4: 5
A5: 1 | B5: Группа основных средств: | C5: 57 | D5: 54 | E5: =IF(C5>0,D5/C5-1,0) -> -0.052631579
A6: 1.1 | B6: здания | C6: 82 | D6: 80 | E6: =IF(C6>0,D6/C6-1,0) -> -0.024390244
A7: 1.2 | B7: сооружения | C7: 42 | D7: 33 | E7: =IF(C7>0,D7/C7-1,0) -> -0.21428571
A8: 1.3 | B8: машины и оборудование (кроме офисного) | C8: 9 | D8: 5 | E8: =IF(C8>0,D8/C8-1,0) -> -0.44444444

Sheet 2.1.
A1: 2.1. Показатели качества услуг по передаче электрической энергии в целом по сетевой организации в отчетном периоде, а также динамика по отношению к году, предшествующему отчетному
A3: N | B3: Показатель | C3: Значение показателя, годы
C4: =+'1.4.'!C3 -> 2016 г. | D4: =+'1.4.'!D3 -> 2017 г. | E4: Динамика изменения показателя, %
A5: 1 | B5: 2 | C5: 3 | D5: 4 | E5: 5
A6: 1 | B6: Показатель средней продолжительности прекращений передачи электрической энергии (ПSAIDI) | C6: =SUM(C7:C10) -> 0 | D6: =SUM(D7:D10) -> 0 | E6: =IF(C6>0,D6/C6-1,0) -> 0
A7: 1.1 | B7: ВН (110 кВ и выше) | E7: =IF(C7>0,D7/C7-1,0) -> 0
A8: 1.2 | B8: СН I (35 - 60 кВ) | E8: =IF(C8>0,D8/C8-1,0) -> 0
A9: 1.3 | B9: СН II (1 - 20 кВ) | E9: =IF(C9>0,D9/C9-1,0) -> 0
A10: 1.4 | B10: НН (до 1 кВ) | E10: =IF(C10>0,D10/C10-1,0) -> 0
A11: 2 | B11: Показатель средней частоты прекращений передачи электрической энергии (ПSAIFI) | C11: =SUM(C12:C15) -> 0 | D11: =SUM(D12:D15) -> 0 | E11: =IF(C11>0,D11/C11-1,0) -> 0
A12: 2.1 | B12: ВН (110 кВ и выше) | E12: =IF(C12>0,D12/C12-1,0) -> 0
A13: 2.2 | B13: СН I (35 - 60 кВ) | E13: =IF(C13>0,D13/C13-1,0) -> 0
A14: 2.3 | B14: СН II (1 - 20 кВ) | E14: =IF(C14>0,D14/C14-1,0) -> 0
A15: 2.4 | B15: НН (до 1 кВ) | E15: =IF(C15>0,D15/C15-1,0) -> 0
A16: 3 | B16: Показатель средней продолжительности прекращений передачи электрической энергии, связанных с проведением ремонтных работ на объектах электросетевого хозяйства сетевой организации (смежной сетевой организации, иных владельцев объектов электросетевого хозяйства) (ПSAIDI, план) | C16: =SUM(C17:C20) -> 0 | D16: =SUM(D17:D20) -> 0 | E16: =IF(C16>0,D16/C16-1,0) -> 0
A17: 3.1 | B17: ВН (110 кВ и выше) | E17: =IF(C17>0,D17/C17-1,0) -> 0
A18: 3.2 | B18: СН I (35 - 60 кВ) | E18: =IF(C18>0,D18/C18-1,0) -> 0
A19: 3.3 | B19: СН II (1 - 20 кВ) | E19: =IF(C19>0,D19/C19-1,0) -> 0
A20: 3.4 | B20: НН (до 1 кВ) | E20: =IF(C20>0,D20/C20-1,0) -> 0
A21: 4 | B21: Показатель средней частоты прекращений передачи электрической энергии, связанных с проведением ремонтных работ на объектах электросетевого хозяйства сетевой организации (смежной сетевой организации, иных владельцев объектов электросетевого хозяйства) (ПSAIFI, план) | C21: =SUM(C22:C25) -> 0 | D21: =SUM(D22:D25) -> 0 | E21: =IF(C21>0,D21/C21-1,0) -> 0
A22: 4.1 | B22: ВН (110 кВ и выше) | E22: =IF(C22>0,D22/C22-1,0) -> 0
A23: 4.2 | B23: СН I (35 - 60 кВ) | E23: =IF(C23>0,D23/C23-1,0) -> 0
A24: 4.3 | B24: СН II (1 - 20 кВ) | E24: =IF(C24>0,D24/C24-1,0) -> 0
A25: 4.4 | B25: НН (до 1 кВ) | E25: =IF(C25>0,D25/C25-1,0) -> 0
A26: 5 | B26: Количество случаев нарушения качества электрической энергии, подтвержденных актами контролирующих организаций и (или) решениями суда, штуки | C26: 0 | D26: 0 | E26: =IF(C26>0,D26/C26-1,0) -> 0
A27: 5.1 | B27: В том числе количество случаев нарушения качества электрической энергии по вине сетевой организации, подтвержденных актами контролирующих организаций и (или) решениями суда, штуки | C27: 0 | D27: 0 | E27: =IF(C27>0,D27/C27-1,0) -> 0

Sheet 2.2.
A1: 2.2. Рейтинг структурных единиц сетевой организации по качеству оказания услуг по передаче электрической энергии, а также по качеству электрической энергии в отчетном периоде
A4: N | B4: Структурная единица сетевой организации | C4: Показатель средней продолжительности прекращений передачи электрической энергии, (ПSAIDI) | G4: Показатель средней частоты прекращений передачи электрической энергии, (ПSAIFI) | K4: Показатель средней продолжительности прекращений передачи электрической энергии, связанных с проведением ремонтных работ на объектах электросетевого хозяйства сетевой организации (смежной сетевой организации, иных владельцев объектов электросетевого хозяйства), (ПSAIDI, план) | O4: Показатель средней частоты прекращений передачи электрической энергии, связанных с проведением ремонтных работ на объектах электросетевого хозяйства сетевой организации (смежной сетевой организации, иных владельцев объектов электросетевого хозяйства), (ПSAIFI, план) | S4: Показатель качества оказания услуг по передаче электрической энергии (отношение общего числа зарегистрированных случаев нарушения качества электрической энергии по вине сетевой организации к максимальному количеству потребителей, обслуживаемых такой структурной единицей сетевой организации в отчетном периоде) | T4: Планируемые мероприятия, направленные на повышение качества оказания услуг по передаче электроэнергии, с указанием сроков
C5: ВН | D5: СН1 | E5: СН2 | F5: НН | G5: ВН | H5: СН1 | I5: СН2 | J5: НН | K5: ВН | L5: СН1 | M5: СН2 | N5: НН | O5: ВН | P5: СН1 | Q5: СН2 | R5: НН
A6: 1 | B6: 2 | C6: 3 | D6: 4 | E6: 5 | F6: 6 | G6: 7 | H6: 8 | I6: 9 | J6: 10 | K6: 11 | L6: 12 | M6: 13 | N6: 14 | O6: 15 | P6: 16 | Q6: 17 | R6: 18 | S6: 19 | T6: 20
A7: 1 | B7: ГПП-6 (Шинная-1) | E7: =+(0.533*1+0.533*1)/56 -> 0.019035714 | I7: =2/56 -> 0.035714286 | S7: =1/26 -> 0.038461538
A8: 2 | B8: -
A9: 3 | B9: -
B10: Всего по сетевой организации

Sheet 3 - 3.2.
A1: 3. Информация о качестве услуг по технологическому присоединению
A3: 3.1. Информация о наличии невостребованной мощности (мощности, определяемой как разность между трансформаторной мощностью центров питания и суммарной мощностью энергопринимающих устройств, непосредственно (или опосредованно) присоединенных к таким центрам питания, и энергопринимающих устройств, в отношении которых имеются заявки на технологическое присоединение) для осуществления технологического присоединения в отчетном периоде, а также о прогнозах ее увеличения с разбивкой по структурным единицам сетевой организации и по уровням напряжения на основании инвестиционной программы такой организации (при наличии инвестпрограммы).
A5: 1. Объекты 110-35кВ
A6: № п/п | B6: Наименование ПС 35-110 кВ | C6: Уровни напряжения ПС 35-110 кВ | D6: Установленная мощность существующих трансформаторов (МВА) | F6: Текущий резерв мощности для присоединения потребителей (по результатам максимальных контрольных замеров), МВА | H6: Планируемый резерв мощности на конец года с учетом присоединенных потребителей, заключенных договоров на технологическое присоединение, поданных заявок на технологическое присоединение и реализации планов капитальных вложений (инвестиционных программ), МВА
D7: 1T | E7: 2T | F7: с учетом присоединенных потребителей | G7: с учетом выданных технических условий
A8: 1 | B8: "Черемуховская" | C8: 110/6 | D8: 10 | E8: 10 | F8: 10.3 | G8: 10.3 | H8: 10.3
A9: 2 | B9: Шинная-1 | C9: 110/10 | D9: 31.5 | E9: 40 | F9: 48.1 | G9: 48.1 | H9: 48.1
A10: 3 | B10: Шинная-2 | C10: 110/10/6 | D10: 80 | E10: 63 | F10: 109.5 | G10: 109.5 | H10: 109.5
A13: 3.2. Мероприятия, выполненные сетевой организацией в целях совершенствования деятельности по технологическому присоединению в отчетном периоде.

Sheet 3.4.
A1: 3.4. Сведения о качестве услуг по технологическому присоединению к электрическим сетям сетевой организации.
A3: N | B3: Показатель | C3: Категория присоединения потребителей услуг по передаче электрической энергии в разбивке по мощности, в динамике по годам
C4: до 15 кВт включительно | F4: свыше 15 кВт и до 150 кВт включительно | I4: свыше 150 кВт и менее 670 кВт | L4: не менее 670 кВт | O4: объекты по производству электрической энергии | R4: Всего
C5: =+'2.1.'!C4 -> 2016 г. | D5: =+'2.1.'!D4 -> 2017 г. | E5: Динамика изменения показателя, % | F5: =+C5 -> 2016 г. | G5: =+D5 -> 2017 г. | H5: Динамика изменения показателя, % | I5: =+F5 -> 2016 г. | J5: =+G5 -> 2017 г. | K5: Динамика изменения показателя, % | L5: =+I5 -> 2016 г. | M5: =+J5 -> 2017 г. | N5: Динамика изменения показателя, % | O5: =+L5 -> 2016 г. | P5: =+M5 -> 2017 г. | Q5: Динамика изменения показателя, % | R5: =+O5 -> 2016 г. | S5: =+P5 -> 2017 г. | T5: Динамика изменения показателя, %
A6: 1 | B6: 2 | C6: 3 | D6: 4 | E6: 5 | F6: 6 | G6: 7 | H6: 8 | I6: 9 | J6: 10 | K6: 11 | L6: 12 | M6: 13 | N6: 14 | O6: 15 | P6: 16 | Q6: 17 | R6: 18 | S6: 19 | T6: 20
A7: 1 | B7: Число заявок на технологическое присоединение, поданных заявителями, штуки | C7: 0 | D7: 0 | E7: =IF(C7>0,D7/C7-1,0) -> 0 | F7: 2 | G7: 2 | H7: =IF(F7>0,G7/F7-1,0) -> 0 | I7: 3 | K7: =IF(I7>0,J7/I7-1,0) -> -1 | L7: 1 | M7: 1 | N7: =IF(L7>0,M7/L7-1,0) -> 0 | O7: 0 | P7: 0 | Q7: =IF(O7>0,P7/O7-1,0) -> 0 | R7: =+C7+F7+I7+L7+O7 -> 6 | S7: =+D7+G7+J7+M7+P7 -> 3 | T7: =IF(R7>0,S7/R7-1,0) -> -0.5
A8: 2 | B8: Число заявок на технологическое присоединение, по которым направлен проект договора об осуществлении технологического присоединения к электрическим сетям, штуки | C8: 0 | D8: 0 | E8: =IF(C8>0,D8/C8-1,0) -> 0 | F8: 2 | G8: 1 | H8: =IF(F8>0,G8/F8-1,0) -> -0.5 | I8: 3 | K8: =IF(I8>0,J8/I8-1,0) -> -1 | L8: 1 | M8: 1 | N8: =IF(L8>0,M8/L8-1,0) -> 0 | O8: 0 | P8: 0 | Q8: =IF(O8>0,P8/O8-1,0) -> 0 | R8: =+C8+F8+I8+L8+O8 -> 6 | S8: =+D8+G8+J8+M8+P8 -> 2 | T8: =IF(R8>0,S8/R8-1,0) -> -0.66666667
A9: 3 | B9: Число заявок на технологическое присоединение, по которым направлен проект договора об осуществлении технологического присоединения к электрическим сетям с нарушением сроков, подтвержденным актами контролирующих организаций и (или) решениями суда, штуки, в том числе: | C9: =+C10+C11 -> 0 | D9: =+D10+D11 -> 0 | E9: =IF(C9>0,D9/C9-1,0) -> 0 | F9: 0 | G9: 0 | H9: =IF(F9>0,G9/F9-1,0) -> 0 | I9: 0 | J9: 0 | K9: =IF(I9>0,J9/I9-1,0) -> 0 | L9: =+L10+L11 -> 0 | M9: =+M10+M11 -> 0 | N9: =IF(L9>0,M9/L9-1,0) -> 0 | O9: =+O10+O11 -> 0 | P9: =+P10+P11 -> 0 | Q9: =IF(O9>0,P9/O9-1,0) -> 0 | R9: =+C9+F9+I9+L9+O9 -> 0 | S9: =+D9+G9+J9+M9+P9 -> 0 | T9: =IF(R9>0,S9/R9-1,0) -> 0
A10: 3.1 | B10: по вине сетевой организации | C10: 0 | D10: 0 | E10: 0 | F10: 0 | G10: 0 | H10: =IF(F10>0,G10/F10-1,0) -> 0 | I10: 0 | J10: 0 | K10: =IF(I10>0,J10/I10-1,0) -> 0 | L10: 0 | M10: 0 | N10: =IF(L10>0,M10/L10-1,0) -> 0 | O10: 0 | P10: 0 | Q10: =IF(O10>0,P10/O10-1,0) -> 0 | R10: =+C10+F10+I10+L10+O10 -> 0 | S10: =+D10+G10+J10+M10+P10 -> 0 | T10: =IF(R10>0,S10/R10-1,0) -> 0
A11: 3.2 | B11: по вине сторонних лиц | C11: 0 | D11: 0 | E11: =IF(C11>0,D11/C11-1,0) -> 0 | F11: 0 | G11: 0 | H11: =IF(F11>0,G11/F11-1,0) -> 0 | I11: 0 | J11: 0 | K11: =IF(I11>0,J11/I11-1,0) -> 0 | L11: 0 | M11: 0 | N11: =IF(L11>0,M11/L11-1,0) -> 0 | O11: 0 | P11: 0 | Q11: =IF(O11>0,P11/O11-1,0) -> 0 | R11: =+C11+F11+I11+L11+O11 -> 0 | S11: =+D11+G11+J11+M11+P11 -> 0 | T11: =IF(R11>0,S11/R11-1,0) -> 0
A12: 4 | B12: Средняя продолжительность подготовки и направления проекта договора об осуществлении технологического присоединения к электрическим сетям, дней | C12: 0 | D12: 0 | E12: =IF(C12>0,D12/C12-1,0) -> 0 | F12: 5 | G12: 5 | H12: =IF(F12>0,G12/F12-1,0) -> 0 | I12: 7 | K12: =IF(I12>0,J12/I12-1,0) -> -1 | L12: 14 | M12: 14 | N12: =IF(L12>0,M12/L12-1,0) -> 0 | O12: 0 | P12: 0 | Q12: =IF(O12>0,P12/O12-1,0) -> 0 | R12: 9 | S12: 8 | T12: =IF(R12>0,S12/R12-1,0) -> -0.11111111
A13: 5 | B13: Число заключенных договоров об осуществлении технологического присоединения к электрическим сетям, штуки | C13: 0 | D13: 0 | E13: =IF(C13>0,D13/C13-1,0) -> 0 | F13: 2 | G13: 1 | H13: =IF(F13>0,G13/F13-1,0) -> -0.5 | I13: 3 | K13: =IF(I13>0,J13/I13-1,0) -> -1 | L13: 1 | M13: 1 | N13: =IF(L13>0,M13/L13-1,0) -> 0 | O13: 0 | P13: 0 | Q13: =IF(O13>0,P13/O13-1,0) -> 0 | R13: =+C13+F13+I13+L13+O13 -> 6 | S13: =+D13+G13+J13+M13+P13 -> 2 | T13: =IF(R13>0,S13/R13-1,0) -> -0.66666667
A14: 6 | B14: Число исполненных договоров об осуществлении технологического присоединения к электрическим сетям, штуки | C14: 0 | D14: 0 | E14: =IF(C14>0,D14/C14-1,0) -> 0 | F14: 1 | G14: 1 | H14: =IF(F14>0,G14/F14-1,0) -> 0 | I14: 0 | J14: 1 | K14: =IF(I14>0,J14/I14-1,0) -> 0 | L14: 0 | M14: 0 | N14: =IF(L14>0,M14/L14-1,0) -> 0 | O14: 0 | P14: 0 | Q14: =IF(O14>0,P14/O14-1,0) -> 0 | R14: =+C14+F14+I14+L14+O14 -> 1 | S14: =+D14+G14+J14+M14+P14 -> 2 | T14: =IF(R14>0,S14/R14-1,0) -> 1
A15: 7 | B15: Число исполненных договоров об осуществлении технологического присоединения к электрическим сетям, по которым произошло нарушение сроков, подтвержденное актами контролирующих организаций и (или) решениями суда, штуки, в том числе: | C15: =+C16+C17 -> 0 | D15: =+D16+D17 -> 0 | E15: =IF(C15>0,D15/C15-1,0) -> 0 | F15: 0 | G15: 0 | H15: =IF(F15>0,G15/F15-1,0) -> 0 | I15: 0 | J15: 0 | K15: =IF(I15>0,J15/I15-1,0) -> 0 | L15: =+L16+L17 -> 0 | M15: =+M16+M17 -> 0 | N15: =IF(L15>0,M15/L15-1,0) -> 0 | O15: =+O16+O17 -> 0 | P15: =+P16+P17 -> 0 | Q15: =IF(O15>0,P15/O15-1,0) -> 0 | R15: =+C15+F15+I15+L15+O15 -> 0 | S15: =+D15+G15+J15+M15+P15 -> 0 | T15: =IF(R15>0,S15/R15-1,0) -> 0
A16: 7.1 | B16: по вине сетевой организации | C16: 0 | D16: 0 | E16: =IF(C16>0,D16/C16-1,0) -> 0 | F16: 0 | G16: 0 | H16: =IF(F16>0,G16/F16-1,0) -> 0 | I16: 0 | J16: 0 | K16: =IF(I16>0,J16/I16-1,0) -> 0 | L16: 0 | M16: 0 | N16: =IF(L16>0,M16/L16-1,0) -> 0 | O16: 0 | P16: 0 | Q16: =IF(O16>0,P16/O16-1,0) -> 0 | R16: =+C16+F16+I16+L16+O16 -> 0 | S16: =+D16+G16+J16+M16+P16 -> 0 | T16: =IF(R16>0,S16/R16-1,0) -> 0
A17: 7.2 | B17: по вине сторонних лиц | C17: 0 | D17: 0 | E17: =IF(C17>0,D17/C17-1,0) -> 0 | F17: 0 | G17: 0 | H17: =IF(F17>0,G17/F17-1,0) -> 0 | I17: 0 | J17: 0 | K17: =IF(I17>0,J17/I17-1,0) -> 0 | L17: 0 | M17: 0 | N17: =IF(L17>0,M17/L17-1,0) -> 0 | O17: 0 | P17: 0 | Q17: =IF(O17>0,P17/O17-1,0) -> 0 | R17: =+C17+F17+I17+L17+O17 -> 0 | S17: =+D17+G17+J17+M17+P17 -> 0 | T17: =IF(R17>0,S17/R17-1,0) -> 0
A18: 8 | B18: Средняя продолжительность исполнения договоров об осуществлении технологического присоединения к электрическим сетям, дней | C18: 0 | D18: 0 | E18: =IF(C18>0,D18/C18-1,0) -> 0 | F18: 28 | H18: =IF(F18>0,G18/F18-1,0) -> -1 | I18: 0 | J18: 0 | K18: =IF(I18>0,J18/I18-1,0) -> 0 | L18: 0 | M18: 0 | N18: =IF(L18>0,M18/L18-1,0) -> 0 | O18: 0 | P18: 0 | Q18: =IF(O18>0,P18/O18-1,0) -> 0 | R18: 28 | T18: =IF(R18>0,S18/R18-1,0) -> -1

Sheet 4.1.
A1: 4.1. Количество обращений, поступивших в сетевую организацию (всего), обращений, содержащих жалобу и (или) обращений, содержащих заявку на оказание услуг, поступивших в сетевую организацию, а также количество обращений, по которым были заключены договоры об осуществлении технологического присоединения и (или) договоры об оказании услуг по передаче электрической энергии, а также по которым были урегулированы жалобы в отчетном периоде, а также динамика по отношению к году, предшествующему отчетному.
A3: N | B3: Категории обращений потребителей | C3: Формы обслуживания
C4: Очная форма | F4: Заочная форма с использованием телефонной связи | I4: Электронная форма с использованием сети Интернет | L4: Письменная форма с использованием почтовой связи | O4: Прочее
C5: =+'3.4.'!F5 -> 2016 г. | D5: =+'3.4.'!G5 -> 2017 г. | E5: Динамика изменения показателя, % | F5: =+'3.4.'!I5 -> 2016 г. | G5: =+'3.4.'!J5 -> 2017 г. | H5: Динамика изменения показателя, % | I5: =+'3.4.'!L5 -> 2016 г. | J5: =+'3.4.'!M5 -> 2017 г. | K5: Динамика изменения показателя, % | L5: =+'3.4.'!O5 -> 2016 г. | M5: =+'3.4.'!P5 -> 2017 г. | N5: Динамика изменения показателя, % | O5: =+'3.4.'!R5 -> 2016 г. | P5: =+'3.4.'!S5 -> 2017 г. | Q5: Динамика изменения показателя, %
A6: 1 | B6: 2 | C6: 3 | D6: 4 | E6: 5 | F6: 6 | G6: 7 | H6: 8 | I6: 9 | J6: 10 | K6: 11 | L6: 12 | M6: 13 | N6: 14 | O6: 18 | P6: 19 | Q6: 20
A7: 1 | B7: Всего обращений потребителей, в том числе: | C7: 0 | D7: 0 | E7: =IF(C7>0,D7/C7-1,0) -> 0 | F7: 0 | G7: 0 | H7: =IF(F7>0,G7/F7-1,0) -> 0 | I7: 0 | J7: 0 | K7: =IF(I7>0,J7/I7-1,0) -> 0 | L7: =+L8+L9+L10+L11+L12+L13 -> 9 | M7: =+M8+M9+M10+M11+M12+M13 -> 4 | N7: =IF(L7>0,M7/L7-1,0) -> -0.55555556 | O7: 0 | P7: 0 | Q7: =IF(O7>0,P7/O7-1,0) -> 0
A8: 1.1 | B8: оказание услуг по передаче электрической энергии | C8: 0 | D8: 0 | E8: =IF(C8>0,D8/C8-1,0) -> 0 | F8: 0 | G8: 0 | H8: =IF(F8>0,G8/F8-1,0) -> 0 | I8: 0 | J8: 0 | K8: =IF(I8>0,J8/I8-1,0) -> 0 | L8: 1 | N8: =IF(L8>0,M8/L8-1,0) -> -1 | O8: 0 | P8: 0 | Q8: =IF(O8>0,P8/O8-1,0) -> 0
A9: 1.2 | B9: осуществление технологического присоединения | C9: 0 | D9: 0 | E9: =IF(C9>0,D9/C9-1,0) -> 0 | F9: 0 | G9: 0 | H9: =IF(F9>0,G9/F9-1,0) -> 0 | I9: 0 | J9: 0 | K9: =IF(I9>0,J9/I9-1,0) -> 0 | L9: 6 | M9: 3 | N9: =IF(L9>0,M9/L9-1,0) -> -0.5 | O9: 0 | P9: 0 | Q9: =IF(O9>0,P9/O9-1,0) -> 0
A10: 1.3 | B10: коммерческий учет электрической энергии | C10: 0 | D10: 0 | E10: =IF(C10>0,D10/C10-1,0) -> 0 | F10: 0 | G10: 0 | H10: =IF(F10>0,G10/F10-1,0) -> 0 | I10: 0 | J10: 0 | K10: =IF(I10>0,J10/I10-1,0) -> 0 | L10: 1 | N10: =IF(L10>0,M10/L10-1,0) -> -1 | O10: 0 | P10: 0 | Q10: =IF(O10>0,P10/O10-1,0) -> 0
A11: 1.4 | B11: качество обслуживания | C11: 0 | D11: 0 | E11: =IF(C11>0,D11/C11-1,0) -> 0 | F11: 0 | G11: 0 | H11: =IF(F11>0,G11/F11-1,0) -> 0 | I11: 0 | J11: 0 | K11: =IF(I11>0,J11/I11-1,0) -> 0 | L11: 0 | M11: 0 | N11: =IF(L11>0,M11/L11-1,0) -> 0 | O11: 0 | P11: 0 | Q11: =IF(O11>0,P11/O11-1,0) -> 0
A12: 1.5 | B12: техническое обслуживание электросетевых объектов | C12: 0 | D12: 0 | E12: =IF(C12>0,D12/C12-1,0) -> 0 | F12: 0 | G12: 0 | H12: =IF(F12>0,G12/F12-1,0) -> 0 | I12: 0 | J12: 0 | K12: =IF(I12>0,J12/I12-1,0) -> 0 | L12: 0 | M12: 0 | N12: =IF(L12>0,M12/L12-1,0) -> 0 | O12: 0 | P12: 0 | Q12: =IF(O12>0,P12/O12-1,0) -> 0
A13: 1.6 | B13: аннулирование заявки (договора) на технологическое присоединение | C13: 0 | D13: 0 | E13: =IF(C13>0,D13/C13-1,0) -> 0 | F13: 0 | G13: 0 | H13: =IF(F13>0,G13/F13-1,0) -> 0 | I13: 0 | J13: 0 | K13: =IF(I13>0,J13/I13-1,0) -> 0 | L13: 1 | M13: 1 | N13: =IF(L13>0,M13/L13-1,0) -> 0 | O13: 0 | P13: 0 | Q13: =IF(O13>0,P13/O13-1,0) -> 0
A14: 2 | B14: Жалобы | C14: 0 | D14: 0 | E14: =IF(C14>0,D14/C14-1,0) -> 0 | F14: 0 | G14: 0 | H14: =IF(F14>0,G14/F14-1,0) -> 0 | I14: 0 | J14: 0 | K14: =IF(I14>0,J14/I14-1,0) -> 0 | L14: 0 | M14: 0 | N14: =IF(L14>0,M14/L14-1,0) -> 0 | O14: 0 | P14: 0 | Q14: =IF(O14>0,P14/O14-1,0) -> 0
A15: 2.1 | B15: оказание услуг по передаче электрической энергии, в том числе: | C15: 0 | D15: 0 | E15: =IF(C15>0,D15/C15-1,0) -> 0 | F15: 0 | G15: 0 | H15: =IF(F15>0,G15/F15-1,0) -> 0 | I15: 0 | J15: 0 | K15: =IF(I15>0,J15/I15-1,0) -> 0 | L15: 0 | M15: 0 | N15: =IF(L15>0,M15/L15-1,0) -> 0 | O15: 0 | P15: 0 | Q15: =IF(O15>0,P15/O15-1,0) -> 0
A16: 2.1.1 | B16: качество услуг по передаче электрической энергии | C16: 0 | D16: 0 | E16: =IF(C16>0,D16/C16-1,0) -> 0 | F16: 0 | G16: 0 | H16: =IF(F16>0,G16/F16-1,0) -> 0 | I16: 0 | J16: 0 | K16: =IF(I16>0,J16/I16-1,0) -> 0 | L16: 0 | M16: 0 | N16: =IF(L16>0,M16/L16-1,0) -> 0 | O16: 0 | P16: 0 | Q16: =IF(O16>0,P16/O16-1,0) -> 0
A17: 2.1.2 | B17: качество электрической энергии | C17: 0 | D17: 0 | E17: =IF(C17>0,D17/C17-1,0) -> 0 | F17: 0 | G17: 0 | H17: =IF(F17>0,G17/F17-1,0) -> 0 | I17: 0 | J17: 0 | K17: =IF(I17>0,J17/I17-1,0) -> 0 | L17: 0 | M17: 0 | N17: =IF(L17>0,M17/L17-1,0) -> 0 | O17: 0 | P17: 0 | Q17: =IF(O17>0,P17/O17-1,0) -> 0
A18: 2.2 | B18: осуществление технологического присоединения | C18: 0 | D18: 0 | E18: =IF(C18>0,D18/C18-1,0) -> 0 | F18: 0 | G18: 0 | H18: =IF(F18>0,G18/F18-1,0) -> 0 | I18: 0 | J18: 0 | K18: =IF(I18>0,J18/I18-1,0) -> 0 | L18: 0 | M18: 0 | N18: =IF(L18>0,M18/L18-1,0) -> 0 | O18: 0 | P18: 0 | Q18: =IF(O18>0,P18/O18-1,0) -> 0
A19: 2.3 | B19: коммерческий учет электрической энергии | C19: 0 | D19: 0 | E19: =IF(C19>0,D19/C19-1,0) -> 0 | F19: 0 | G19: 0 | H19: =IF(F19>0,G19/F19-1,0) -> 0 | I19: 0 | J19: 0 | K19: =IF(I19>0,J19/I19-1,0) -> 0 | L19: 0 | M19: 0 | N19: =IF(L19>0,M19/L19-1,0) -> 0 | O19: 0 | P19: 0 | Q19: =IF(O19>0,P19/O19-1,0) -> 0
A20: 2.4 | B20: качество обслуживания | C20: 0 | D20: 0 | E20: =IF(C20>0,D20/C20-1,0) -> 0 | F20: 0 | G20: 0 | H20: =IF(F20>0,G20/F20-1,0) -> 0 | I20: 0 | J20: 0 | K20: =IF(I20>0,J20/I20-1,0) -> 0 | L20: 0 | M20: 0 | N20: =IF(L20>0,M20/L20-1,0) -> 0 | O20: 0 | P20: 0 | Q20: =IF(O20>0,P20/O20-1,0) -> 0
A21: 2.5 | B21: техническое обслуживание объектов электросетевого хозяйства | C21: 0 | D21: 0 | E21: =IF(C21>0,D21/C21-1,0) -> 0 | F21: 0 | G21: 0 | H21: =IF(F21>0,G21/F21-1,0) -> 0 | I21: 0 | J21: 0 | K21: =IF(I21>0,J21/I21-1,0) -> 0 | L21: 0 | M21: 0 | N21: =IF(L21>0,M21/L21-1,0) -> 0 | O21: 0 | P21: 0 | Q21: =IF(O21>0,P21/O21-1,0) -> 0
A22: 2.6 | B22: прочее (указать) | C22: 0 | D22: 0 | E22: =IF(C22>0,D22/C22-1,0) -> 0 | F22: 0 | G22: 0 | H22: =IF(F22>0,G22/F22-1,0) -> 0 | I22: 0 | J22: 0 | K22: =IF(I22>0,J22/I22-1,0) -> 0 | L22: 0 | M22: 0 | N22: =IF(L22>0,M22/L22-1,0) -> 0 | O22: 0 | P22: 0 | Q22: =IF(O22>0,P22/O22-1,0) -> 0
A23: 3 | B23: Заявка на оказание услуг | C23: =+C24+C25+C26+C27 -> 0 | D23: =+D24+D25+D26+D27 -> 0 | E23: =IF(C23>0,D23/C23-1,0) -> 0 | F23: =+F24+F25+F26+F27 -> 0 | G23: =+G24+G25+G26+G27 -> 0 | H23: =IF(F23>0,G23/F23-1,0) -> 0 | I23: =+I24+I25+I26+I27 -> 0 | J23: =+J24+J25+J26+J27 -> 0 | K23: =IF(I23>0,J23/I23-1,0) -> 0 | L23: 8 | N23: =IF(L23>0,M23/L23-1,0) -> -1 | O23: =+O24+O25+O26+O27 -> 0 | P23: =+P24+P25+P26+P27 -> 0 | Q23: =IF(O23>0,P23/O23-1,0) -> 0
A24: 3.1 | B24: по технологическому присоединению | C24: 0 | D24: 0 | E24: =IF(C24>0,D24/C24-1,0) -> 0 | F24: 0 | G24: 0 | H24: =IF(F24>0,G24/F24-1,0) -> 0 | I24: 0 | J24: 0 | K24: =IF(I24>0,J24/I24-1,0) -> 0 | L24: 6 | M24: 3 | N24: =IF(L24>0,M24/L24-1,0) -> -0.5 | O24: 0 | P24: 0 | Q24: =IF(O24>0,P24/O24-1,0) -> 0
A25: 3.2 | B25: на заключение договора на оказание услуг по передаче электрической энергии | C25: 0 | D25: 0 | E25: =IF(C25>0,D25/C25-1,0) -> 0 | F25: 0 | G25: 0 | H25: =IF(F25>0,G25/F25-1,0) -> 0 | I25: 0 | J25: 0 | K25: =IF(I25>0,J25/I25-1,0) -> 0 | L25: 1 | M25: 0 | N25: =IF(L25>0,M25/L25-1,0) -> -1 | O25: 0 | P25: 0 | Q25: =IF(O25>0,P25/O25-1,0) -> 0
A26: 3.3 | B26: организация коммерческого учета электрической энергии | C26: 0 | D26: 0 | E26: =IF(C26>0,D26/C26-1,0) -> 0 | F26: 0 | G26: 0 | H26: =IF(F26>0,G26/F26-1,0) -> 0 | I26: 0 | J26: 0 | K26: =IF(I26>0,J26/I26-1,0) -> 0 | L26: 1 | M26: 0 | N26: =IF(L26>0,M26/L26-1,0) -> -1 | O26: 0 | P26: 0 | Q26: =IF(O26>0,P26/O26-1,0) -> 0
A27: 3.4 | B27: прочее (указать) | C27: 0 | D27: 0 | E27: =IF(C27>0,D27/C27-1,0) -> 0 | F27: 0 | G27: 0 | H27: =IF(F27>0,G27/F27-1,0) -> 0 | I27: 0 | J27: 0 | K27: =IF(I27>0,J27/I27-1,0) -> 0 | L27: 0 | M27: 0 | N27: =IF(L27>0,M27/L27-1,0) -> 0 | Q27: =IF(O27>0,P27/O27-1,0) -> 0

Sheet 4.2.
A1: 4.2 Информация о деятельности офисов обслуживания потребителей.
A3: N | B3: Офис обслуживания потребителей | C3: Тип офиса | D3: Адрес местонахождения | E3: Номер телефона, адрес электронной почты | F3: Режим работы | G3: Предоставляемые услуги | H3: Количество потребителей, обратившихся очно в отчетном периоде | I3: Среднее время на обслуживание потребителя, мин. | J3: Среднее время ожидания потребителя в очереди, мин. | K3: Количество сторонних организаций на территории офиса обслуживания (при наличии указать названия организаций)
A4: 1 | B4: 2 | C4: 3 | D4: 4 | E4: 5 | F4: 6 | G4: 7 | H4: 8 | I4: 9 | J4: 10 | K4: 11
A5: 1 | B5: -

Sheet 4.3.
A1: 4.3. Информация о заочном обслуживании потребителей посредством телефонной связи.
A3: N | B3: Наименование | C3: Единица измерения
A4: 1 | B4: 2 | C4: 3 | D4: 4
A5: 1 | B5: Перечень номеров телефонов, выделенных для обслуживания потребителей: | C5: номер телефона
B6: Номер телефона по вопросам энергоснабжения: | D6: +7(3812)39-23-27
B7: Номера телефонов центров обработки телефонных вызовов: | D7: +7(3812)39-22-52
A8: 2 | B8: Общее число телефонных вызовов от потребителей по выделенным номерам телефонов | C8: единицы | D8: 20
A9: 2.1 | B9: Общее число телефонных вызовов от потребителей, на которые ответил оператор сетевой организации | C9: единицы | D9: 20
A10: 2.2 | B10: Общее число телефонных вызовов от потребителей, обработанных автоматически системой интерактивного голосового меню | C10: единицы | D10: 0
A11: 3 | B11: Среднее время ожидания ответа потребителем при телефонном вызове на выделенные номера телефонов за текущий период | C11: мин. | D11: 1
A12: 4 | B12: Среднее время обработки телефонного вызова от потребителя на выделенные номера телефонов за текущий период | C12: мин. | D12: 5

Sheet 4.9.
A1: 4.9. Информация по обращениям потребителей.
A3: N | B3: Идентификационный номер обращения | C3: Дата обращения | D3: Время обращения | E3: Форма обращения | J3: Обращения | P3: Обращения потребителей, содержащие жалобу | W3: Обращения потребителей, содержащие заявку на оказание услуг | AA3: Факт получения потребителем ответа | AD3: Мероприятия по результатам обращения
E4: Очное обращение | F4: Заочное обращение посредством телефонной связи | G4: Заочное обращение посредством сети Интернет | H4: Письменное обращение посредством почтовой связи | I4: Прочее | J4: Оказание услуг по передаче электрической энергии | K4: Осуществление технологического присоединения | L4: Коммерческий учет электрической энергии | M4: Качество обслуживания потребителей | N4: Техническое обслуживание электросетевых объектов | O4: Аннулирование заявки (договора) на технологическое присоединение | P4: Качество услуг по передаче электрической энергии | Q4: Качество электрической энергии | R4: Осуществление технологического присоединения | S4: Коммерческий учет электрической энергии | T4: Качество обслуживания потребителей | U4: Техническое обслуживание электросетевых объектов | V4: Прочее | W4: По технологическому присоединению | X4: Заключение договора на оказание услуг по передаче электроэнергии | Y4: Организация коммерческого учета электроэнергии | Z4: Прочее | AA4: Заявителем был получен исчерпывающий ответ в установленные сроки | AB4: Заявителем был получен исчерпывающий ответ с нарушением сроков | AC4: Обращение оставлено без ответа | AD4: Выполненные мероприятия по результатам обращения | AE4: Планируемые мероприятия по результатам обращения
A5: 1 | B5: 2 | C5: 3 | D5: 4 | E5: 5 | F5: 6 | G5: 7 | H5: 8 | I5: 9 | J5: 10 | K5: 11 | L5: 12 | M5: 13 | N5: 14 | O5: 15 | P5: 16 | Q5: 17 | R5: 18 | S5: 19 | T5: 20 | U5: 21 | V5: 22 | W5: 23 | X5: 24 | Y5: 25 | Z5: 26 | AA5: 27 | AB5: 28 | AC5: 29 | AD5: 30 | AE5: 31
A6: 1 | B6: 2601 | C6: 42964 | D6: 0.40972222 | H6: + | K6: + | W6: + | AA6: + | AD6: заявка аннулирована, договор рассторгнут | AE6: -
A7: 2 | B7: 17-0323 | C7: 43048 | D7: 0.47222222 | I7: + | K7: + | W7: + | AA7: + | AD7: заключен договор на технологическое присоединение | AE7: осуществление технологического присоединения, заключение договора на услуги по передаче электроэнергии,организация коммерческого учета
A8: 3 | B8: 3563 | C8: 43053 | D8: 0.41666667 | H8: + | O8: + | AA8: + | AD8: заявка аннулирована, договор рассторгнут | AE8: -
A9: 4 | B9: 3866 | C9: 43082 | D9: 0.59722222 | H9: + | K9: + | W9: + | AA9: + | AD9: направление потребителю проекта договора на технологическое присоединение, выдача ТУ | AE9: осуществление технологического присоединения, заключение договора на услуги по передаче электроэнергии,организация коммерческого учета
